BEGIN:VCALENDAR
VERSION:2.0
PRODID:-//WoQua - ECPv6.15.20//NONSGML v1.0//EN
CALSCALE:GREGORIAN
METHOD:PUBLISH
X-ORIGINAL-URL:https://woquagoettingen.de
X-WR-CALDESC:Veranstaltungen für WoQua
REFRESH-INTERVAL;VALUE=DURATION:PT1H
X-Robots-Tag:noindex
X-PUBLISHED-TTL:PT1H
BEGIN:VTIMEZONE
TZID:Europe/Berlin
BEGIN:DAYLIGHT
TZOFFSETFROM:+0100
TZOFFSETTO:+0200
TZNAME:CEST
DTSTART:20240331T010000
END:DAYLIGHT
BEGIN:STANDARD
TZOFFSETFROM:+0200
TZOFFSETTO:+0100
TZNAME:CET
DTSTART:20241027T010000
END:STANDARD
BEGIN:DAYLIGHT
TZOFFSETFROM:+0100
TZOFFSETTO:+0200
TZNAME:CEST
DTSTART:20250330T010000
END:DAYLIGHT
BEGIN:STANDARD
TZOFFSETFROM:+0200
TZOFFSETTO:+0100
TZNAME:CET
DTSTART:20251026T010000
END:STANDARD
BEGIN:DAYLIGHT
TZOFFSETFROM:+0100
TZOFFSETTO:+0200
TZNAME:CEST
DTSTART:20260329T010000
END:DAYLIGHT
BEGIN:STANDARD
TZOFFSETFROM:+0200
TZOFFSETTO:+0100
TZNAME:CET
DTSTART:20261025T010000
END:STANDARD
END:VTIMEZONE
BEGIN:VEVENT
DTSTART;TZID=Europe/Berlin:20250925T173000
DTEND;TZID=Europe/Berlin:20250925T190000
DTSTAMP:20260422T184140
CREATED:20250909T082520Z
LAST-MODIFIED:20250909T082522Z
UID:1706-1758821400-1758826800@woquagoettingen.de
SUMMARY:Arbeitstreffen – 25.09.2025
DESCRIPTION:Allgemeines Treffen der Mitglieder. Austausch und Infos zum Stand der Dinge. Treffen vor Ort.
URL:https://woquagoettingen.de/event/arbeitstreffen-25-09-2025/
END:VEVENT
BEGIN:VEVENT
DTSTART;TZID=Europe/Berlin:20250927T103000
DTEND;TZID=Europe/Berlin:20250927T170000
DTSTAMP:20260422T184140
CREATED:20250911T064636Z
LAST-MODIFIED:20250925T143217Z
UID:1717-1758969000-1758992400@woquagoettingen.de
SUMMARY:Flohmarkt im Quartier
DESCRIPTION:Alle Interessierte sind herzlich eingeladen. Vorbereitung Flohmarkt 10:30h\, Start 11h. Wir kooperieren mit dem DejaVu\, alles findet auf dem Vorplatz zwischen DejaVu und Meiningerhaus statt.
URL:https://woquagoettingen.de/event/flohmarkt-im-quartier/
END:VEVENT
END:VCALENDAR