BEGIN:VCALENDAR
VERSION:2.0
PRODID:-//WoQua - ECPv6.15.20//NONSGML v1.0//EN
CALSCALE:GREGORIAN
METHOD:PUBLISH
X-WR-CALNAME:WoQua
X-ORIGINAL-URL:https://woquagoettingen.de
X-WR-CALDESC:Veranstaltungen für WoQua
REFRESH-INTERVAL;VALUE=DURATION:PT1H
X-Robots-Tag:noindex
X-PUBLISHED-TTL:PT1H
BEGIN:VTIMEZONE
TZID:Europe/Berlin
BEGIN:DAYLIGHT
TZOFFSETFROM:+0100
TZOFFSETTO:+0200
TZNAME:CEST
DTSTART:20230326T010000
END:DAYLIGHT
BEGIN:STANDARD
TZOFFSETFROM:+0200
TZOFFSETTO:+0100
TZNAME:CET
DTSTART:20231029T010000
END:STANDARD
BEGIN:DAYLIGHT
TZOFFSETFROM:+0100
TZOFFSETTO:+0200
TZNAME:CEST
DTSTART:20240331T010000
END:DAYLIGHT
BEGIN:STANDARD
TZOFFSETFROM:+0200
TZOFFSETTO:+0100
TZNAME:CET
DTSTART:20241027T010000
END:STANDARD
BEGIN:DAYLIGHT
TZOFFSETFROM:+0100
TZOFFSETTO:+0200
TZNAME:CEST
DTSTART:20250330T010000
END:DAYLIGHT
BEGIN:STANDARD
TZOFFSETFROM:+0200
TZOFFSETTO:+0100
TZNAME:CET
DTSTART:20251026T010000
END:STANDARD
END:VTIMEZONE
BEGIN:VEVENT
DTSTART;TZID=Europe/Berlin:20240903T083000
DTEND;TZID=Europe/Berlin:20240903T100000
DTSTAMP:20260425T154417
CREATED:20240911T121914Z
LAST-MODIFIED:20240911T121915Z
UID:1199-1725352200-1725357600@woquagoettingen.de
SUMMARY:Brandschutz - Begehung vor Ort
DESCRIPTION:Doro hat mit einem Brandschutzingenieur das Meiningerhaus besichtigt.
URL:https://woquagoettingen.de/event/brandschutz-begehung-vor-ort/
END:VEVENT
BEGIN:VEVENT
DTSTART;TZID=Europe/Berlin:20240905T173000
DTEND;TZID=Europe/Berlin:20240905T190000
DTSTAMP:20260425T154417
CREATED:20240815T085923Z
LAST-MODIFIED:20240904T124157Z
UID:1118-1725557400-1725562800@woquagoettingen.de
SUMMARY:Arbeitstreffen – 05.09.2024 verschoben
DESCRIPTION:Diesen Termin sagen wir ab und treffen uns dann wieder am Dienstag den 10.9.2024.
URL:https://woquagoettingen.de/event/arbeitstreffen-05-09-2024/
END:VEVENT
BEGIN:VEVENT
DTSTART;TZID=Europe/Berlin:20240910T173000
DTEND;TZID=Europe/Berlin:20240910T190000
DTSTAMP:20260425T154417
CREATED:20240904T124823Z
LAST-MODIFIED:20241206T175122Z
UID:1132-1725989400-1725994800@woquagoettingen.de
SUMMARY:Arbeitstreffen – 10.09.2024
DESCRIPTION:Treffen vor Ort zur weiteren Planung. (Termin statt des entfallenen Do. 5.9.2024).  \n\n\n\n\nUnd hier das Protokoll von Nora >>>.
URL:https://woquagoettingen.de/event/arbeitstreffen-10-09-2024/
END:VEVENT
BEGIN:VEVENT
DTSTART;TZID=Europe/Berlin:20240912T113000
DTEND;TZID=Europe/Berlin:20240912T130000
DTSTAMP:20260425T154417
CREATED:20240911T090023Z
LAST-MODIFIED:20240912T082944Z
UID:1161-1726140600-1726146000@woquagoettingen.de
SUMMARY:Stolpersteinverlegung Meiningerhaus
DESCRIPTION:EINLADUNG: Morgen findet\, wie wir leider erst kurzfristig erfahren haben\, die 9. Stolpersteinverlegung statt. Beginn ist im Alten Rathaus\, 11.30 Uhr\, danach geht’s zur Verlegung der Stolpersteine\, zunächst für Familie Meininger in der Düsteren Straße 1\, dann für Heinz Meyerstein\, Rote Straße 16 und Erich Meyerstein in der Oberen Masch 10. https://www.gcjz-goettingen.deWer schön\, wenn einige von uns dabei sein könnten!
URL:https://woquagoettingen.de/event/stolperstein-meiningerhaus/
END:VEVENT
BEGIN:VEVENT
DTSTART;TZID=Europe/Berlin:20240919T100000
DTEND;TZID=Europe/Berlin:20240919T130000
DTSTAMP:20260425T154417
CREATED:20241206T183953Z
LAST-MODIFIED:20241206T183953Z
UID:1563-1726740000-1726750800@woquagoettingen.de
SUMMARY:Begehung Meiningerhaus
DESCRIPTION:Begehung des Meiningerhauses zum Informationsaustausch. Beteiligte waren: Niedersächsische Landesdenkmalschutzbehörde (Dr. Rüsch)\, Stadt Göttingen\, Bauamt; Bauordnung\, Denkmalschutz und Archäologie; Planung\, Bauordnung und Vermessung (Herr Fedderke\, Frau Bohnsack\, Frau Arndt\, Herr Lindemann)\, Statiker Herr Dipl.-Ing. Georgios Grigoriadis\, Architektin Monika v. Vught\, Woqua eG Vertreterinnen Vorstand. Ergebnis ist\, dass Herr Rüsch den Schutzstatus des Meiningerhauses durch ein Bauforschungsgutachten prüfen lassen möchte. Das müssen die Woqua eG bei der Stadt beantragen\, machen zu dürfen. Außerdem wird behördlicherseits ein Bodengutachten gewünscht.
URL:https://woquagoettingen.de/event/begehung-meiningerhaus/
END:VEVENT
BEGIN:VEVENT
DTSTART;TZID=Europe/Berlin:20240919T173000
DTEND;TZID=Europe/Berlin:20240919T190000
DTSTAMP:20260425T154417
CREATED:20240904T131304Z
LAST-MODIFIED:20241203T205046Z
UID:1134-1726767000-1726772400@woquagoettingen.de
SUMMARY:3. Generalversammlung – 19.09.2024
DESCRIPTION:Wir laden alle Mitglieder zur Generalversammlung ein. Ihr solltet eine Mail mit der aktualisierten Tagesordnung erhalten haben. Bitte kommt zahlreich\, sonst sind wir möglicherweise nicht beschlußfähig. Wir treffen uns in den Räumen des Stadtjugendrings in Göttingen\, NICHT in der Stadtbibliothek\, wie zunächst geplant. \n\n\n\nTagesordnung >>> \n\n\n\nProtokoll >>> \n\n\n\nBeschlussfassungen >>>
URL:https://woquagoettingen.de/event/1-generalversammlung-19-09-2024/
LOCATION:Stadtjugendring\, Düstere Straße 20a\, 37073 Göttingen\, Germany
END:VEVENT
BEGIN:VEVENT
DTSTART;TZID=Europe/Berlin:20240921T100000
DTEND;TZID=Europe/Berlin:20240921T170000
DTSTAMP:20260425T154417
CREATED:20240815T084348Z
LAST-MODIFIED:20240815T084349Z
UID:1106-1726912800-1726938000@woquagoettingen.de
SUMMARY:4. Bautag Meiningerhaus
DESCRIPTION:Weiter geht’s mit der Entkernung des Meiningerhauses. Jede Hilfe ist willkommen.
URL:https://woquagoettingen.de/event/4-bautag-meiningerhaus/
END:VEVENT
BEGIN:VEVENT
DTSTART;TZID=Europe/Berlin:20240924T100000
DTEND;TZID=Europe/Berlin:20240924T170000
DTSTAMP:20260425T154417
CREATED:20240807T092931Z
LAST-MODIFIED:20240911T100855Z
UID:1091-1727172000-1727197200@woquagoettingen.de
SUMMARY:2. Präsentation – Cottbusser Architekturstudent:innen
DESCRIPTION:Architekturstudenten aus Cottbus – BTU Brandenburgische Technische Universität Cottbus – Senftenberg haben sich mit der architektonischen Gestaltung des Projektes beschäftigt und präsentieren ihre Ideen und Ergebnisse. Heute werden die Masterthesisarbeiten vorgestellt.
URL:https://woquagoettingen.de/event/2-praesentation-cottbusser-architekturstudenten/
LOCATION:Uni in Cottbus\, Konrad-Wachsmann-Allee 8\, 03046 Cottbus\, Deutschland
END:VEVENT
BEGIN:VEVENT
DTSTART;TZID=Europe/Berlin:20240926T160000
DTEND;TZID=Europe/Berlin:20240926T190000
DTSTAMP:20260425T154417
CREATED:20240911T113154Z
LAST-MODIFIED:20240926T090418Z
UID:1187-1727366400-1727377200@woquagoettingen.de
SUMMARY:! Fällt krankheitsbedingt aus ! Workshop "Nachhaltiges Bauen im Bestand"
DESCRIPTION:Herzliche Einladung an alle zum Workshop „Nachhaltiges Bauen im Bestand“\, also Bauen mit regenerativen Baustoffen. Oliver Berkefeld\, Bauingenieur und ein Bekannter von Laura\, hat nicht nur das aktuelle Expertenwissen\, das wir für die Restaurierung des Meiningerhauses brauchen\, sondern auch Erfahrungen mit dem Denkmal- und Ensembleschutz und den niedersächsischen Behörden!  \n\n\n\nDer Workshop findet in den Räumen der Freien Altenarbeit in Göttingen statt. \n\n\n\nWir versuchen in der kommenden Woche einen neuen Termin zu finden.
URL:https://woquagoettingen.de/event/workshop-nachhaltiges-bauen-im-bestand/
LOCATION:Freie Altenarbeit\, Am Goldgraben 14\, 37073 Göttingen
END:VEVENT
BEGIN:VEVENT
DTSTART;TZID=Europe/Berlin:20240926T173000
DTEND;TZID=Europe/Berlin:20240926T190000
DTSTAMP:20260425T154417
CREATED:20240927T153811Z
LAST-MODIFIED:20240927T154154Z
UID:1316-1727371800-1727377200@woquagoettingen.de
SUMMARY:Arbeitstreffen – 26.09.2024
DESCRIPTION:Normales Arbeitstreffen\, statt des geplanten Seminars mit Oli (Gute Besserung!). Mitteilungen über den Stand der Dinge. \n\n\n\n\n\n\n\nProtokoll >>>
URL:https://woquagoettingen.de/event/arbeitstreffen-26-09-2024/
END:VEVENT
BEGIN:VEVENT
DTSTART;TZID=Europe/Berlin:20240928T100000
DTEND;TZID=Europe/Berlin:20240928T170000
DTSTAMP:20260425T154417
CREATED:20240815T084535Z
LAST-MODIFIED:20241021T142808Z
UID:1108-1727517600-1727542800@woquagoettingen.de
SUMMARY:5. Bautag Meiningerhaus
DESCRIPTION:Und wir machen weiter mit der Entrümpelung des Meiningerhauses nach den Vorgaben der Denkmalschutzbehörden. Helfer:innen sind wie immer willkommen. \n\n\n\n\n\n\n\nBilder vom 5. Bautag im Erdgeschoss des Meiningerhauses\, Entrümpelung nach Maßgaben der Stadt. >>>
URL:https://woquagoettingen.de/event/5-bautag-meiningerhaus/
END:VEVENT
END:VCALENDAR