BEGIN:VCALENDAR
VERSION:2.0
PRODID:-//WoQua - ECPv6.15.20//NONSGML v1.0//EN
CALSCALE:GREGORIAN
METHOD:PUBLISH
X-ORIGINAL-URL:https://woquagoettingen.de
X-WR-CALDESC:Veranstaltungen für WoQua
REFRESH-INTERVAL;VALUE=DURATION:PT1H
X-Robots-Tag:noindex
X-PUBLISHED-TTL:PT1H
BEGIN:VTIMEZONE
TZID:Europe/Berlin
BEGIN:DAYLIGHT
TZOFFSETFROM:+0100
TZOFFSETTO:+0200
TZNAME:CEST
DTSTART:20230326T010000
END:DAYLIGHT
BEGIN:STANDARD
TZOFFSETFROM:+0200
TZOFFSETTO:+0100
TZNAME:CET
DTSTART:20231029T010000
END:STANDARD
BEGIN:DAYLIGHT
TZOFFSETFROM:+0100
TZOFFSETTO:+0200
TZNAME:CEST
DTSTART:20240331T010000
END:DAYLIGHT
BEGIN:STANDARD
TZOFFSETFROM:+0200
TZOFFSETTO:+0100
TZNAME:CET
DTSTART:20241027T010000
END:STANDARD
BEGIN:DAYLIGHT
TZOFFSETFROM:+0100
TZOFFSETTO:+0200
TZNAME:CEST
DTSTART:20250330T010000
END:DAYLIGHT
BEGIN:STANDARD
TZOFFSETFROM:+0200
TZOFFSETTO:+0100
TZNAME:CET
DTSTART:20251026T010000
END:STANDARD
END:VTIMEZONE
BEGIN:VEVENT
DTSTART;TZID=Europe/Berlin:20240508T160000
DTEND;TZID=Europe/Berlin:20240508T180000
DTSTAMP:20260425T232825
CREATED:20240530T052504Z
LAST-MODIFIED:20240601T180031Z
UID:744-1715184000-1715191200@woquagoettingen.de
SUMMARY:Notar/Termin f. d. Kauf d. Grundstückes Düstere Str. 1
DESCRIPTION:Termin beim Notar Kleinjohann(Vertretung) zum Kauf des Geländes Düstere Str. 1 durch die WoQua eG\, vertreten durch die Vorstände D. Sandmann\, A. Hoymann\, C. Blaack und den Verkäufer Herrn Rotschnik.
URL:https://woquagoettingen.de/event/notar-kauf-duestere-1/
END:VEVENT
BEGIN:VEVENT
DTSTART;TZID=Europe/Berlin:20240514T193000
DTEND;TZID=Europe/Berlin:20240514T210000
DTSTAMP:20260425T232825
CREATED:20240530T053229Z
LAST-MODIFIED:20240530T053230Z
UID:746-1715715000-1715720400@woquagoettingen.de
SUMMARY:1. Generalversammlung
DESCRIPTION:Es findet die erste Generalversammlung der WoQua eG statt. Durch die erste Versammlung führt Doro Sandmann.
URL:https://woquagoettingen.de/event/1-generalversammlung/
END:VEVENT
BEGIN:VEVENT
DTSTART;TZID=Europe/Berlin:20240517T150000
DTEND;TZID=Europe/Berlin:20240517T190000
DTSTAMP:20260425T232825
CREATED:20240530T055243Z
LAST-MODIFIED:20240530T072952Z
UID:748-1715958000-1715972400@woquagoettingen.de
SUMMARY:Workshop Planung
DESCRIPTION:Worshop mit Sabine Conti\, Expertin für Genossenschaften und Architektin\, und Monika v. Vught\, Architektin der WoQua\, mit Kollegin. Welche Wohnwünsche haben interessierte Teilnehmer:innen des Projektes? Welche architektonischen Möglichkeiten und Ideen gibt es? Und wie können Wünsche und Möglichkeiten zusammen kommen?
URL:https://woquagoettingen.de/event/workshop-planung/
END:VEVENT
BEGIN:VEVENT
DTSTART;TZID=Europe/Berlin:20240528T173000
DTEND;TZID=Europe/Berlin:20240528T190000
DTSTAMP:20260425T232825
CREATED:20240601T193002Z
LAST-MODIFIED:20240705T094248Z
UID:826-1716917400-1716922800@woquagoettingen.de
SUMMARY:Arbeitstreffen – 28.5.2024
DESCRIPTION:Treffen der fest Interessierten zur weiteren Planung. Ort: Stadtbibliothek (=Bibi) \n\n\n\nTOP waren: weitere Infos >>> \n\n\n\n\nEntscheidung für eine Bank – GLS\, Umwelt- oder Volksbank\n\n\n\nInfos vom Prüfverband\n\n\n\nFachtag Wohnen\, organisiert von der Stadt Gö\n\n\n\nStand am Samstag auf dem Wochenmarkt – wetterabhängig\n\n\n\nCampusradio\n\n\n\nBausamstage Meiningerhaus am 22. und 29. Juni ’24\n\n\n\nstrukturierte Aufstellung zum Thema „Wo will ich wohnen? Welche Etage\, welche Himmelsrichtung? Alt- oder Neubau?“\n\n\n\n\n\n> PROTOKOLL >
URL:https://woquagoettingen.de/event/arbeitstreffen-2/
END:VEVENT
BEGIN:VEVENT
DTSTART;TZID=Europe/Berlin:20240529T100000
DTEND;TZID=Europe/Berlin:20240529T170000
DTSTAMP:20260425T232825
CREATED:20240529T061517Z
LAST-MODIFIED:20240530T074637Z
UID:732-1716976800-1717002000@woquagoettingen.de
SUMMARY:Fachtag Wohnen
DESCRIPTION:Heute findet der Fachtag Wohnen in der alten Mensa in Gö statt.
URL:https://woquagoettingen.de/event/fachtag-wohnen/
END:VEVENT
END:VCALENDAR