BEGIN:VCALENDAR
VERSION:2.0
PRODID:-//WoQua - ECPv6.15.20//NONSGML v1.0//EN
CALSCALE:GREGORIAN
METHOD:PUBLISH
X-ORIGINAL-URL:https://woquagoettingen.de
X-WR-CALDESC:Veranstaltungen für WoQua
REFRESH-INTERVAL;VALUE=DURATION:PT1H
X-Robots-Tag:noindex
X-PUBLISHED-TTL:PT1H
BEGIN:VTIMEZONE
TZID:Europe/Berlin
BEGIN:DAYLIGHT
TZOFFSETFROM:+0100
TZOFFSETTO:+0200
TZNAME:CEST
DTSTART:20230326T010000
END:DAYLIGHT
BEGIN:STANDARD
TZOFFSETFROM:+0200
TZOFFSETTO:+0100
TZNAME:CET
DTSTART:20231029T010000
END:STANDARD
BEGIN:DAYLIGHT
TZOFFSETFROM:+0100
TZOFFSETTO:+0200
TZNAME:CEST
DTSTART:20240331T010000
END:DAYLIGHT
BEGIN:STANDARD
TZOFFSETFROM:+0200
TZOFFSETTO:+0100
TZNAME:CET
DTSTART:20241027T010000
END:STANDARD
BEGIN:DAYLIGHT
TZOFFSETFROM:+0100
TZOFFSETTO:+0200
TZNAME:CEST
DTSTART:20250330T010000
END:DAYLIGHT
BEGIN:STANDARD
TZOFFSETFROM:+0200
TZOFFSETTO:+0100
TZNAME:CET
DTSTART:20251026T010000
END:STANDARD
END:VTIMEZONE
BEGIN:VEVENT
DTSTART;TZID=Europe/Berlin:20240408T103000
DTEND;TZID=Europe/Berlin:20240408T120000
DTSTAMP:20260425T232820
CREATED:20240601T051250Z
LAST-MODIFIED:20240604T203032Z
UID:777-1712572200-1712577600@woquagoettingen.de
SUMMARY:Notar/Termin
DESCRIPTION:Notarielle Beantragung zur Gründung der Genossenschaft
URL:https://woquagoettingen.de/event/notartermin/
END:VEVENT
BEGIN:VEVENT
DTSTART;TZID=Europe/Berlin:20240416T160000
DTEND;TZID=Europe/Berlin:20240416T180000
DTSTAMP:20260425T232820
CREATED:20240601T055405Z
LAST-MODIFIED:20240604T203012Z
UID:795-1713283200-1713290400@woquagoettingen.de
SUMMARY:Bank/Termin Volksbank
DESCRIPTION:Austauscg über das Projekt bei der Volksbank. Doro Sandmann\, Alex Hoymann\, Conny Blaack
URL:https://woquagoettingen.de/event/banktermin-volksbank/
END:VEVENT
BEGIN:VEVENT
DTSTART;TZID=Europe/Berlin:20240416T173000
DTEND;TZID=Europe/Berlin:20240416T190000
DTSTAMP:20260425T232820
CREATED:20240605T103523Z
LAST-MODIFIED:20240705T095357Z
UID:896-1713288600-1713294000@woquagoettingen.de
SUMMARY:Arbeitstreffen – 16.4.2024
DESCRIPTION:Treffen der fest Interessierten zur weiteren Planung des Projektes. Ort: Stadtbibliothek \n\n\n\n\n> PROTOKOLL >
URL:https://woquagoettingen.de/event/arbeitstreffen-16-4-2024/
END:VEVENT
BEGIN:VEVENT
DTSTART;TZID=Europe/Berlin:20240427T150000
DTEND;TZID=Europe/Berlin:20240427T170000
DTSTAMP:20260425T232820
CREATED:20240601T055008Z
LAST-MODIFIED:20240601T180058Z
UID:793-1714230000-1714237200@woquagoettingen.de
SUMMARY:Infoveranstaltung zum Projekt
DESCRIPTION:Infoveranstaltung zum WoQua Projekt. Alle Interessierte sind herzlich eingeladen!Ort: Günter-Grass-Archiv in der Düsteren Str. 6\, Göttingen.
URL:https://woquagoettingen.de/event/oeffentlicher-infotreff-woqua-3/
END:VEVENT
END:VCALENDAR