BEGIN:VCALENDAR
VERSION:2.0
PRODID:-//WoQua - ECPv6.15.20//NONSGML v1.0//EN
CALSCALE:GREGORIAN
METHOD:PUBLISH
X-WR-CALNAME:WoQua
X-ORIGINAL-URL:https://woquagoettingen.de
X-WR-CALDESC:Veranstaltungen für WoQua
REFRESH-INTERVAL;VALUE=DURATION:PT1H
X-Robots-Tag:noindex
X-PUBLISHED-TTL:PT1H
BEGIN:VTIMEZONE
TZID:Europe/Berlin
BEGIN:DAYLIGHT
TZOFFSETFROM:+0100
TZOFFSETTO:+0200
TZNAME:CEST
DTSTART:20230326T010000
END:DAYLIGHT
BEGIN:STANDARD
TZOFFSETFROM:+0200
TZOFFSETTO:+0100
TZNAME:CET
DTSTART:20231029T010000
END:STANDARD
BEGIN:DAYLIGHT
TZOFFSETFROM:+0100
TZOFFSETTO:+0200
TZNAME:CEST
DTSTART:20240331T010000
END:DAYLIGHT
BEGIN:STANDARD
TZOFFSETFROM:+0200
TZOFFSETTO:+0100
TZNAME:CET
DTSTART:20241027T010000
END:STANDARD
BEGIN:DAYLIGHT
TZOFFSETFROM:+0100
TZOFFSETTO:+0200
TZNAME:CEST
DTSTART:20250330T010000
END:DAYLIGHT
BEGIN:STANDARD
TZOFFSETFROM:+0200
TZOFFSETTO:+0100
TZNAME:CET
DTSTART:20251026T010000
END:STANDARD
END:VTIMEZONE
BEGIN:VEVENT
DTSTART;TZID=Europe/Berlin:20241107T123000
DTEND;TZID=Europe/Berlin:20241107T140000
DTSTAMP:20260425T140143
CREATED:20241120T115031Z
LAST-MODIFIED:20241120T115033Z
UID:1411-1730982600-1730988000@woquagoettingen.de
SUMMARY:Treffen zur Bauforschung
DESCRIPTION:Vorbesprechung und Begehung vor Ort zur Bauforschung mit niedersächsischem Denkmalamt\, Herrn Dr. Rüsch\, der Bauforschungsfirma Streichardt & Wedekind GbR in Göttingen\, Frau Bohnsack von der Stadt Göttingen\, Bauordnung\, Denkmalschutz und Archäologie\, sowie Doro und Conny von unserer Seite.
URL:https://woquagoettingen.de/event/treffen-zur-bauforschung/
END:VEVENT
BEGIN:VEVENT
DTSTART;TZID=Europe/Berlin:20241107T173000
DTEND;TZID=Europe/Berlin:20241107T190000
DTSTAMP:20260425T140143
CREATED:20241021T121112Z
LAST-MODIFIED:20241120T115329Z
UID:1338-1731000600-1731006000@woquagoettingen.de
SUMMARY:Arbeitstreffen - 7.11.2024
DESCRIPTION:Info über die Begehung vom Morgen zur Bauforschung.
URL:https://woquagoettingen.de/event/arbeitstreffen-7-11-2024/
LOCATION:BiBi
END:VEVENT
END:VCALENDAR