BEGIN:VCALENDAR
VERSION:2.0
PRODID:-//WoQua - ECPv6.15.20//NONSGML v1.0//EN
CALSCALE:GREGORIAN
METHOD:PUBLISH
X-ORIGINAL-URL:https://woquagoettingen.de
X-WR-CALDESC:Veranstaltungen für WoQua
REFRESH-INTERVAL;VALUE=DURATION:PT1H
X-Robots-Tag:noindex
X-PUBLISHED-TTL:PT1H
BEGIN:VTIMEZONE
TZID:Europe/Berlin
BEGIN:DAYLIGHT
TZOFFSETFROM:+0100
TZOFFSETTO:+0200
TZNAME:CEST
DTSTART:20230326T010000
END:DAYLIGHT
BEGIN:STANDARD
TZOFFSETFROM:+0200
TZOFFSETTO:+0100
TZNAME:CET
DTSTART:20231029T010000
END:STANDARD
BEGIN:DAYLIGHT
TZOFFSETFROM:+0100
TZOFFSETTO:+0200
TZNAME:CEST
DTSTART:20240331T010000
END:DAYLIGHT
BEGIN:STANDARD
TZOFFSETFROM:+0200
TZOFFSETTO:+0100
TZNAME:CET
DTSTART:20241027T010000
END:STANDARD
BEGIN:DAYLIGHT
TZOFFSETFROM:+0100
TZOFFSETTO:+0200
TZNAME:CEST
DTSTART:20250330T010000
END:DAYLIGHT
BEGIN:STANDARD
TZOFFSETFROM:+0200
TZOFFSETTO:+0100
TZNAME:CET
DTSTART:20251026T010000
END:STANDARD
END:VTIMEZONE
BEGIN:VEVENT
DTSTART;TZID=Europe/Berlin:20241005T100000
DTEND;TZID=Europe/Berlin:20241005T170000
DTSTAMP:20260425T154505
CREATED:20240815T085022Z
LAST-MODIFIED:20241004T081314Z
UID:1112-1728122400-1728147600@woquagoettingen.de
SUMMARY:6. Bautag Meiningerhaus - Fällt aus!!
DESCRIPTION:Wir bleiben dran und arbeiten weiter gemeinsam an der Entrümpelung des Meiningerhauses nach den Vorgaben der Denkmalschutzbehörden. Helfer:innen sind wie immer sehr willkommen.
URL:https://woquagoettingen.de/event/6-bautag-meiningerhaus/
END:VEVENT
END:VCALENDAR