BEGIN:VCALENDAR
VERSION:2.0
PRODID:-//WoQua - ECPv6.15.20//NONSGML v1.0//EN
CALSCALE:GREGORIAN
METHOD:PUBLISH
X-ORIGINAL-URL:https://woquagoettingen.de
X-WR-CALDESC:Veranstaltungen für WoQua
REFRESH-INTERVAL;VALUE=DURATION:PT1H
X-Robots-Tag:noindex
X-PUBLISHED-TTL:PT1H
BEGIN:VTIMEZONE
TZID:Europe/Berlin
BEGIN:DAYLIGHT
TZOFFSETFROM:+0100
TZOFFSETTO:+0200
TZNAME:CEST
DTSTART:20230326T010000
END:DAYLIGHT
BEGIN:STANDARD
TZOFFSETFROM:+0200
TZOFFSETTO:+0100
TZNAME:CET
DTSTART:20231029T010000
END:STANDARD
BEGIN:DAYLIGHT
TZOFFSETFROM:+0100
TZOFFSETTO:+0200
TZNAME:CEST
DTSTART:20240331T010000
END:DAYLIGHT
BEGIN:STANDARD
TZOFFSETFROM:+0200
TZOFFSETTO:+0100
TZNAME:CET
DTSTART:20241027T010000
END:STANDARD
BEGIN:DAYLIGHT
TZOFFSETFROM:+0100
TZOFFSETTO:+0200
TZNAME:CEST
DTSTART:20250330T010000
END:DAYLIGHT
BEGIN:STANDARD
TZOFFSETFROM:+0200
TZOFFSETTO:+0100
TZNAME:CET
DTSTART:20251026T010000
END:STANDARD
END:VTIMEZONE
BEGIN:VEVENT
DTSTART;TZID=Europe/Berlin:20240919T100000
DTEND;TZID=Europe/Berlin:20240919T130000
DTSTAMP:20260425T174117
CREATED:20241206T183953Z
LAST-MODIFIED:20241206T183953Z
UID:1563-1726740000-1726750800@woquagoettingen.de
SUMMARY:Begehung Meiningerhaus
DESCRIPTION:Begehung des Meiningerhauses zum Informationsaustausch. Beteiligte waren: Niedersächsische Landesdenkmalschutzbehörde (Dr. Rüsch)\, Stadt Göttingen\, Bauamt; Bauordnung\, Denkmalschutz und Archäologie; Planung\, Bauordnung und Vermessung (Herr Fedderke\, Frau Bohnsack\, Frau Arndt\, Herr Lindemann)\, Statiker Herr Dipl.-Ing. Georgios Grigoriadis\, Architektin Monika v. Vught\, Woqua eG Vertreterinnen Vorstand. Ergebnis ist\, dass Herr Rüsch den Schutzstatus des Meiningerhauses durch ein Bauforschungsgutachten prüfen lassen möchte. Das müssen die Woqua eG bei der Stadt beantragen\, machen zu dürfen. Außerdem wird behördlicherseits ein Bodengutachten gewünscht.
URL:https://woquagoettingen.de/event/begehung-meiningerhaus/
END:VEVENT
BEGIN:VEVENT
DTSTART;TZID=Europe/Berlin:20240919T173000
DTEND;TZID=Europe/Berlin:20240919T190000
DTSTAMP:20260425T174117
CREATED:20240904T131304Z
LAST-MODIFIED:20241203T205046Z
UID:1134-1726767000-1726772400@woquagoettingen.de
SUMMARY:3. Generalversammlung – 19.09.2024
DESCRIPTION:Wir laden alle Mitglieder zur Generalversammlung ein. Ihr solltet eine Mail mit der aktualisierten Tagesordnung erhalten haben. Bitte kommt zahlreich\, sonst sind wir möglicherweise nicht beschlußfähig. Wir treffen uns in den Räumen des Stadtjugendrings in Göttingen\, NICHT in der Stadtbibliothek\, wie zunächst geplant. \n\n\n\nTagesordnung >>> \n\n\n\nProtokoll >>> \n\n\n\nBeschlussfassungen >>>
URL:https://woquagoettingen.de/event/1-generalversammlung-19-09-2024/
LOCATION:Stadtjugendring\, Düstere Straße 20a\, 37073 Göttingen\, Germany
END:VEVENT
END:VCALENDAR